BEGIN:VCALENDAR
VERSION:2.0
PRODID:-//Australian Technologies Teacher Educators Network - ECPv6.15.20//NONSGML v1.0//EN
CALSCALE:GREGORIAN
METHOD:PUBLISH
X-WR-CALNAME:Australian Technologies Teacher Educators Network
X-ORIGINAL-URL:https://atten.net.au
X-WR-CALDESC:Events for Australian Technologies Teacher Educators Network
REFRESH-INTERVAL;VALUE=DURATION:PT1H
X-Robots-Tag:noindex
X-PUBLISHED-TTL:PT1H
BEGIN:VTIMEZONE
TZID:Australia/Brisbane
BEGIN:STANDARD
TZOFFSETFROM:+1000
TZOFFSETTO:+1000
TZNAME:AEST
DTSTART:20180101T000000
END:STANDARD
END:VTIMEZONE
BEGIN:VEVENT
DTSTART;TZID=Australia/Brisbane:20260212T100000
DTEND;TZID=Australia/Brisbane:20260213T173000
DTSTAMP:20260423T195931
CREATED:20251203T041209Z
LAST-MODIFIED:20251203T042736Z
UID:850-1770890400-1771003800@atten.net.au
SUMMARY:ATTEN 2026 Summit
DESCRIPTION:The Australian Technologies Teacher Educators Network (ATTEN) is delighted to announce the ATTEN Summit 2026\, to be held at ACU Tenison Woods House\, Sydney\, from Thursday 12 to Friday 13 February 2026. \nThis national event will bring together teacher educators\, researchers\, policymakers\, and industry partners to share insights\, co-create knowledge\, and shape the future of Technologies Teacher Education. \nDay 1 (Hybrid: in-person and online) will focus on teaching\, learning\, research\, and publishing\, featuring keynote sessions\, collaborative activities\, and networking opportunities. \n\nDay 2 (In-person only) will be dedicated to collaborative research writing\, including structured sessions around ATTEN Research Projects\, team formation\, and publication planning. \nKey themes include: \n\nCurriculum Design and Pedagogical Approaches\nTechnological Pedagogical Content Knowledge (TPACK)\nDigital Literacy and Computational Thinking\nEquity\, Inclusion\, and Access in Technologies Education\nTeacher Readiness\, Professional Learning\, and Identity Formation\nEmerging Technologies and Future-Focused Pedagogies\n\nRegistration fees have been kept as low as possible ($100 per day)\, with limited subsidised accommodation and $500 travel stipends available to support regional\, rural\, and early/mid-career participants. \nRegister now: https://events.humanitix.com/atten-2026-summit \n\nFor further information visit atten.net.au or contact the organising committee via atten.net.au/contact-us
URL:https://atten.net.au/event/2026-summit/
LOCATION:Australian Catholic University\, North Sydney Campus\, 40 Edward Street\, Sydney\, NSW\, 2060\, Australia
END:VEVENT
BEGIN:VEVENT
DTSTART;TZID=Australia/Brisbane:20221122T170000
DTEND;TZID=Australia/Brisbane:20221122T190000
DTSTAMP:20260423T195931
CREATED:20251203T031154Z
LAST-MODIFIED:20251203T034629Z
UID:830-1669136400-1669143600@atten.net.au
SUMMARY:Unpacking Version 9 of The Technologies Curriculum
DESCRIPTION:Speaker: Kim Vernon\, Curriculum Specialist\, Technologies Curriculum\, ACARA\nAbstract: This session will provide participants with an opportunity to familiarise themselves with the reduction in and refinements to curriculum content\, and the improvements to content descriptions and achievement standards within the Australian Curriculum\, Version 9.0: Technologies. The session will explore key changes to the Curriculum content and how the functionality of the new website will support planning.
URL:https://atten.net.au/event/unpacking-version-9-of-the-technologies-curriculum/
LOCATION:Victoria
ATTACH;FMTTYPE=image/jpeg:https://atten.net.au/wp-content/uploads/2025/12/logan-voss-vYZONlxtRso-unsplash-e1764733581914.jpg
END:VEVENT
BEGIN:VEVENT
DTSTART;TZID=Australia/Brisbane:20210429T160000
DTEND;TZID=Australia/Brisbane:20210429T170000
DTSTAMP:20260423T195931
CREATED:20251203T030459Z
LAST-MODIFIED:20251203T034509Z
UID:826-1619712000-1619715600@atten.net.au
SUMMARY:Improving pre-service teachers’ digital competence: Scenarios for a blended future
DESCRIPTION:Speakers: A/Prof. Sarah Howard and Prof. Jo Tondeur\nAbstract: In response to the global COVID-19 pandemic\, the field of education has undergone a massive shift from face-to-face to online and blended learning. This has provided a challenging but at the same time interesting opportunity for teachers from all educational levels to reconsider their educational practice. The difficulty of this was that many teachers had very little or no experienced teaching online. In this keynote\, we will unpack how a person-centered approach can be used to develop the digital competencies of pre-service teachers for online and blended learning practice. Therefore\, we will first consider pre-service teacher profiles in relation to readiness to teach online\, including individual and institutional factors\, to consider what support is needed to teach online in a range of educational contexts. We will then present scenarios of how to best design teacher training to be responsive to different profiles in the development of digital competence for a blended future. This is an important consideration in the field\, because teaching online is not only in the short-term to manage COVID-19. It is also important to consider the long-term goals of providing better support to integrate online and blended learning approaches in different educational contexts. \nCLICK HERE FOR MORE
URL:https://atten.net.au/event/improving-pre-service-teachers-digital-competence-scenarios-for-a-blended-future/
LOCATION:Victoria
ATTACH;FMTTYPE=image/png:https://atten.net.au/wp-content/uploads/2021/03/sarah-howard.png
END:VEVENT
BEGIN:VEVENT
DTSTART;TZID=Australia/Brisbane:20201202T093000
DTEND;TZID=Australia/Brisbane:20201202T093000
DTSTAMP:20260423T195931
CREATED:20251203T025704Z
LAST-MODIFIED:20251204T023949Z
UID:822-1606901400-1606901400@atten.net.au
SUMMARY:ATTEN 2020 Symposium
DESCRIPTION:Introduced immersive technologies\, immersive pedagogies and their application for education.\nDiscussed the possibility of collaboratively developing a research paper on immersive technologies in teacher education.\n\n\n\n\n\n\n\n \n\n\nCollaborative Google Doc Session recording \nDigital and Educational Technologies Literature Review for Pre-service Teacher Programs (Matt Bower)\nPre-service teacher education programs relating to Digital Technologies and educational technology are ideally informed by research\, yet this literature is disorganised and fragmented. In this session we shared the key literature that we use in our units\, to form a repository that could be drawn upon by any university. As well\, we discussed the possibility of collaboratively undertaking one or more literature reviews relating to effective approaches for: \n\n\n\n\nteaching Digital Technologies and Design & Technologies to children\nintegrating technology into the classroom\ndeveloping teachers’ Digital Technologies and Design & Technologies pedagogical capabilities\ndeveloping teachers’ technology integration capabilities\n\n\n\n\n\n\n\n \n\n\n\n\n\n \n\n\n\n\n\n \n\n\nPlease take the time to add to the knowledge base\, noting the different tabs for the different areas! Also add your name to a sheet where you would be interested in joining a collaborative literature review. Collaborative spreadsheet knowledge base (multiple tabs) Session recording In response to COVID-19 and to promote flexible attendance\, the 2020 ATTEN Symposium was held online on 2nd December 2020. The symposium was attended by 31 members. The agenda for the day can be found at here. A brief description of each of the five sessions\, recordings\, and corresponding resources can be found below. CLICK HERE FOR MORE  \nATTEN State of the Union Introduction (Matt Bower)\nIn this session we briefly reflected on the relationship of ATTEN to a range of other organisations (ACDE\, ACARA\, ACCE\, DATTA\, ATEA\, ASCILITE\, SITTE)\, as well as the progress of ATTEN to date. We also discussed the challenges and opportunities we face\, including: \n\nPositively influencing teacher education\nEstablishing processes and culture\nCoordinating and leading activities\nDetermining and maintaining membership\nSourcing funding\nRaising awareness of ATTEN\nEstablishing positive partnerships\nConducting collaborative research\n\nPresentation slides Session recording \nStructure of Digital Technologies in Australian Pre-Service Teacher Programs (Jo Blannin)\nIn the context of potential changes to the DT curriculum\, this session explored what we might contribute to the discussion in the form of a collaborative position paper. During this highly interactive session (using Miro) we worked to unpack what we\, as ITE educators\, have learned in our 5 years working with the curriculum and what we want to highlight/promote/recommend for future iterations. By the end of the session we had a paper outlined\, sections allocated for development and a core group of writers ready to go! Take a look at the Miro space and the session recording below. Miro interactive activity link Session recording (from 30mins 30 secs) \neSafety and Digital Citizenship in the Pre-service Teacher Education Curriculum (Leanne Cameron & Petrea Redmond)\nThe purpose of this session was to provide a snapshot of current eSafety/Digital Citizenship education in ITE programs. It explored the possibility of a joint research paper investigating the following research question ‘What approaches are Australian teacher education programs currently using to teach e-safety and digital citizenship?’ The Proposed data collection method (No surveys – yeh!) was that members of ATTEN provide assessment items from their ITE programs where they have identified they practice or assess ‘APST 4.5 Use ICT safely\, responsibly and ethically’ within their accreditation documentation. Please contribute to the collaborative doc below. Collaborative Google Doc Session Recording \nAR/VR/XR in Education – What are the applications and pedagogical opportunities? (Dave Ellis & Amber McLeod)\nThis session: \n\n\n\n\nIntroduced immersive technologies\, immersive pedagogies and their application for education.\nDiscussed the possibility of collaboratively developing a research paper on immersive technologies in teacher education.\n\n\n\n\n\n\n\n \n\n\nCollaborative Google Doc Session recording \nDigital and Educational Technologies Literature Review for Pre-service Teacher Programs (Matt Bower)\nPre-service teacher education programs relating to Digital Technologies and educational technology are ideally informed by research\, yet this literature is disorganised and fragmented. In this session we shared the key literature that we use in our units\, to form a repository that could be drawn upon by any university. As well\, we discussed the possibility of collaboratively undertaking one or more literature reviews relating to effective approaches for: \n\n\n\n\nteaching Digital Technologies and Design & Technologies to children\nintegrating technology into the classroom\ndeveloping teachers’ Digital Technologies and Design & Technologies pedagogical capabilities\ndeveloping teachers’ technology integration capabilities\n\n\n\n\n\n\n\n \n\n\n\n\n\n \n\n\n\n\n\n \n\n\nPlease take the time to add to the knowledge base\, noting the different tabs for the different areas! Also add your name to a sheet where you would be interested in joining a collaborative literature review. Collaborative spreadsheet knowledge base (multiple tabs) Session recording
URL:https://atten.net.au/event/atten-2020-symposium/
LOCATION:Victoria
ATTACH;FMTTYPE=image/png:https://atten.net.au/wp-content/uploads/2020/12/screen-shot-2020-12-04-at-10.05.20-am.png
END:VEVENT
BEGIN:VEVENT
DTSTART;TZID=Australia/Brisbane:20191209T093000
DTEND;TZID=Australia/Brisbane:20191209T160000
DTSTAMP:20260423T195931
CREATED:20251203T025449Z
LAST-MODIFIED:20251204T022414Z
UID:814-1575883800-1575907200@atten.net.au
SUMMARY:ATTEN 2019 Symposium
DESCRIPTION:The program agenda for the inaugural meeting of ATTEN had five sessions that focused on sharing knowledge and understanding of each institutions Technologies education programs in ITE programs\, sharing of resources that best support the development of pre-service teachers’ capabilities development in Technologies\, areas of research in Technologies. The final session of the symposium looked to developing ways to effectively progress the work of ATTEN as a collective. \nDOWNLOAD AGENDA AND NOTES \n    \nPresentation Files from Plenary Sessions\n \n \nOpening Season\n \nTechnologies Mapping Across Teacher Education Programs\n \nVideo Recordings
URL:https://atten.net.au/event/atten-2019-symposium/
LOCATION:ACARA Head Office Sydney\, Level 13\, Tower B\, Centennial Plaza\, 280 Elizabeth Street\, Sydney\, NSW\, 2000\, Australia
ATTACH;FMTTYPE=image/jpeg:https://atten.net.au/wp-content/uploads/2020/02/a8c7a-img_5708-scaled-1.jpg
END:VEVENT
END:VCALENDAR